BEGIN:VCALENDAR
VERSION:2.0
PRODID:-//eventon.com NONSGML v1.0//EN
CALSCALE:GREGORIAN
METHOD:PUBLISH
BEGIN:VEVENT
UID:69e9e9e6cd4bd
DTSTAMP:20260423T094406Z
DTSTART:20230623T200000Z
DTEND:20230623T230000Z
LOCATION:zoom Webinar
SUMMARY:Diagnosis and Treatment of Eating Disorders
DESCRIPTION:View Event\nhttps://mhah.org/events/6-23-2023/
URL:https://mhah.org/events/6-23-2023/
END:VEVENT
END:VCALENDAR