BEGIN:VCALENDAR
VERSION:2.0
PRODID:-//eventon.com NONSGML v1.0//EN
CALSCALE:GREGORIAN
METHOD:PUBLISH
BEGIN:VEVENT
UID:69e9e884f31e0
DTSTAMP:20260423T093812Z
DTSTART:20230630T200000Z
DTEND:20230701T093000Z
LOCATION:zoom Webinar
SUMMARY:Therapeutic Rituals at the End of Life
DESCRIPTION:View Event\nhttps://mhah.org/events/6-30-2023/
URL:https://mhah.org/events/6-30-2023/
END:VEVENT
END:VCALENDAR