BEGIN:VCALENDAR
VERSION:2.0
PRODID:-//eventon.com NONSGML v1.0//EN
CALSCALE:GREGORIAN
METHOD:PUBLISH
BEGIN:VEVENT
UID:69e9e88504b8c
DTSTAMP:20260423T093813Z
DTSTART:20230518T230000Z
DTEND:20230519T003000Z
LOCATION:zoom Webinar
SUMMARY:Shift Happens
DESCRIPTION:View Event\nhttps://mhah.org/events/5-18-2023/
URL:https://mhah.org/events/5-18-2023/
END:VEVENT
END:VCALENDAR