BEGIN:VCALENDAR
VERSION:2.0
PRODID:-//eventon.com NONSGML v1.0//EN
CALSCALE:GREGORIAN
METHOD:PUBLISH
BEGIN:VEVENT
UID:69e9e9ffe8e5b
DTSTAMP:20260423T094431Z
DTSTART:20230505T000000Z
DTEND:20230505T013000Z
LOCATION:zoom Webinar
SUMMARY:Psychodynamic Considerations in the Treatment of Bipolar Disorder
DESCRIPTION:View Event\nhttps://mhah.org/events/5-4-2023/
URL:https://mhah.org/events/5-4-2023/
END:VEVENT
END:VCALENDAR