BEGIN:VCALENDAR
VERSION:2.0
PRODID:-//eventon.com NONSGML v1.0//EN
CALSCALE:GREGORIAN
METHOD:PUBLISH
BEGIN:VEVENT
UID:69e4dc19d7aef
DTSTAMP:20260419T134353Z
DTSTART:20210423T200000Z
DTEND:20210423T230000Z
LOCATION:zoom Webinar
SUMMARY:Diagnosis and Treatment of Personality Disorders
DESCRIPTION:View Event\nhttps://mhah.org/events/4-23-2021/
URL:https://mhah.org/events/4-23-2021/
END:VEVENT
END:VCALENDAR